BEGIN:VCALENDAR
VERSION:2.0
PRODID:-//ChamberMaster//Event Calendar 2.0//EN
METHOD:PUBLISH
X-PUBLISHED-TTL:P3D
REFRESH-INTERVAL:P3D
CALSCALE:GREGORIAN
BEGIN:VEVENT
DTSTART:20161220T013000Z
DTEND:20161220T023000Z
X-MICROSOFT-CDO-ALLDAYEVENT:FALSE
SUMMARY:Ribbon Cutting Ceremony for UFC Gym Garden Grove!
DESCRIPTION:Join us in welcoming UFC Gym to Garden Grove with a Ribbon Cutting Ceremony! Light Refreshments will be provided.
X-ALT-DESC;FMTTYPE=text/html:Join us in welcoming UFC Gym to Garden Grove with a Ribbon Cutting Ceremony! Light Refreshments will be provided.&nbsp\;&nbsp\;&nbsp\;&nbsp\;
LOCATION:UFC Gym Garden Grove 12827 Harbor Blvd. Suite G-1 Garden Grove\, CA 92840
UID:e.1315.6050
SEQUENCE:3
DTSTAMP:20260420T103549Z
URL:http://business.gardengrovechamber.com/events/details/ribbon-cutting-ceremony-for-ufc-gym-garden-grove-6050
END:VEVENT

END:VCALENDAR
