BEGIN:VCALENDAR
VERSION:2.0
PRODID:-//ChamberMaster//Event Calendar 2.0//EN
METHOD:PUBLISH
X-PUBLISHED-TTL:P3D
REFRESH-INTERVAL:P3D
CALSCALE:GREGORIAN
BEGIN:VEVENT
DTSTART:20170210T013000Z
DTEND:20170210T023000Z
X-MICROSOFT-CDO-ALLDAYEVENT:FALSE
SUMMARY:Ribbon Cutting Ceremony for Van Nguyen Gordon
DESCRIPTION:Please join us in welcoming Van Nguyen Gordon Insurance & Financial Services Agency to the Garden Grove Chamber of Commerce with a Ribbon Cutting Ceremony. This event will take place on Thursday\, February 9th\, from 5:30 to 6:30 pm. The ceremony will be at 6:00 pm. Light Refreshments will be provided. Please RSVP for this event.
X-ALT-DESC;FMTTYPE=text/html:Please join us in welcoming Van Nguyen Gordon Insurance &amp\; Financial Services Agency to the Garden Grove Chamber of Commerce with a Ribbon Cutting Ceremony. This event will take place on Thursday\, February 9th\, from 5:30 to 6:30 pm. The ceremony will be at 6:00 pm. Light Refreshments will be provided. Please RSVP for this event.&nbsp\;&nbsp\;&nbsp\;&nbsp\;&nbsp\;&nbsp\;&nbsp\;&nbsp\;
LOCATION:Van Nguyen Gordon Insurance and Financial Services Agency 8927 Westminster Avenue Garden Grove\, CA 92844
UID:e.1315.6070
SEQUENCE:3
DTSTAMP:20260420T073419Z
URL:http://business.gardengrovechamber.com/events/details/ribbon-cutting-ceremony-for-van-nguyen-gordon-6070
END:VEVENT

END:VCALENDAR
