BEGIN:VCALENDAR
VERSION:2.0
PRODID:-//ChamberMaster//Event Calendar 2.0//EN
METHOD:PUBLISH
X-PUBLISHED-TTL:P3D
REFRESH-INTERVAL:P3D
CALSCALE:GREGORIAN
BEGIN:VEVENT
DTSTART:20170907T003000Z
DTEND:20170907T020000Z
X-MICROSOFT-CDO-ALLDAYEVENT:FALSE
SUMMARY:Ribbon Cutting for All About the Bride & E Patisserie Cafe
DESCRIPTION:Join us in welcoming All About the Bride & E Patisserie Cafe to Garden Grove Chamber of Commerce and Main Street! Light refreshments will be provided. \n\n\n\nAll About the Bride & E Patisserie Cafe is an all inclusive bridal shop. You can shop for your gown\, taste your food\, design your invitations\, have your hair and make-up done and more. They also sell and make Vietnamese dresses. They are called  o d i\, which is translated to "long shirts." These dresses are typically worn by women on special occasions\, but there are some made for men as well.
X-ALT-DESC;FMTTYPE=text/html:Join us in welcoming&nbsp\;All About the Bride &amp\; E Patisserie Cafe&nbsp\;to Garden Grove Chamber of Commerce and Main Street! Light refreshments will be provided.&nbsp\;<br />\n<br />\nAll About the Bride&nbsp\;&amp\; E Patisserie Cafe is an all inclusive bridal shop. You can shop for your gown\, taste your food\, design your invitations\, have your hair and make-up done and more.&nbsp\;<span style="color: rgb(29\, 33\, 41)\; font-family: Helvetica\, Arial\, sans-serif\; font-size: 14px\;">They also sell and make Vietnamese dresses. They are called &aacute\;o d&agrave\;i\, which is translated to &quot\;long shirts.&quot\; These dresses are typically worn by women on special occasions\, but there are some made for men as well.&nbsp\;</span>
LOCATION:All About the Bride & E Patisserie Cafe 12921 Main Street Garden Grove\, CA 92840
UID:e.1315.6184
SEQUENCE:3
DTSTAMP:20260419T205839Z
URL:http://business.gardengrovechamber.com/events/details/ribbon-cutting-for-all-about-the-bride-e-patisserie-cafe-6184
END:VEVENT

END:VCALENDAR
