BEGIN:VCALENDAR
VERSION:2.0
PRODID:-//ChamberMaster//Event Calendar 2.0//EN
METHOD:PUBLISH
X-PUBLISHED-TTL:P3D
REFRESH-INTERVAL:P3D
CALSCALE:GREGORIAN
BEGIN:VEVENT
DTSTART:20150122T093000Z
DTEND:20150122T230000Z
X-MICROSOFT-CDO-ALLDAYEVENT:FALSE
SUMMARY:Ribbon Cutting for Brookdale Garden Grove
DESCRIPTION:Come join us for Ribbon Cutting for Brookdale Garden Grove\, recently known as Emeritus at Garden Manor.  There will be food and drink and a tour of their newly named community.
X-ALT-DESC;FMTTYPE=text/html:<span style="line-height: 20.7999992370605px\;">Come join us for Ribbon Cutting for&nbsp\;</span>Brookdale<span style="line-height: 20.7999992370605px\;">&nbsp\;Garden Grove\, recently known as Emeritus at Garden Manor. &nbsp\;There will be food and drink and a tour of their newly named community.&nbsp\;</span>
LOCATION:Brookdale Garden Grove 10200 Chapman Avenue Garden Grove\, CA 92840
UID:e.1315.2453
SEQUENCE:3
DTSTAMP:20260424T044719Z
URL:http://business.gardengrovechamber.com/events/details/ribbon-cutting-for-brookdale-garden-grove-01-22-2015-2453
END:VEVENT

END:VCALENDAR
