BEGIN:VCALENDAR
VERSION:2.0
PRODID:-//ChamberMaster//Event Calendar 2.0//EN
METHOD:PUBLISH
X-PUBLISHED-TTL:P3D
REFRESH-INTERVAL:P3D
CALSCALE:GREGORIAN
BEGIN:VEVENT
DTSTART:20180216T013000Z
DTEND:20180216T023000Z
X-MICROSOFT-CDO-ALLDAYEVENT:FALSE
SUMMARY:Ribbon Cutting for Campbell Termite Control Services
DESCRIPTION:Join us in welcoming Campbell Termite Control Services to Garden Grove Chamber of Commerce and Main Street! Light refreshments will be provided.
X-ALT-DESC;FMTTYPE=text/html:Join us in welcoming Campbell Termite Control Services&nbsp\;to Garden Grove Chamber of Commerce and Main Street! Light refreshments will be provided.&nbsp\;<br />\n&nbsp\;
LOCATION:Campbell Termite Control Services 12866 Main Street\, Suite 203 Garden Grove\, CA 92840
UID:e.1315.6265
SEQUENCE:3
DTSTAMP:20260419T131458Z
URL:http://business.gardengrovechamber.com/events/details/ribbon-cutting-for-campbell-termite-control-services-6265
END:VEVENT

END:VCALENDAR
