BEGIN:VCALENDAR
VERSION:2.0
PRODID:-//ChamberMaster//Event Calendar 2.0//EN
METHOD:PUBLISH
X-PUBLISHED-TTL:P3D
REFRESH-INTERVAL:P3D
CALSCALE:GREGORIAN
BEGIN:VEVENT
DTSTART:20160527T160000Z
DTEND:20160527T180000Z
X-MICROSOFT-CDO-ALLDAYEVENT:FALSE
SUMMARY:Ribbon Cutting for NorthStar Market
DESCRIPTION:Please join us in welcoming NorthStar Market to Garden Grove with a Ribbon Cutting Ceremony on Friday\, May 27\, 2016. The ceremony will take place at 10:00 am. Light refreshments will be provided. Please RSVP for this event.
X-ALT-DESC;FMTTYPE=text/html:Please join us in welcoming NorthStar Market to Garden Grove with a Ribbon Cutting Ceremony on Friday\, May 27\, 2016. The ceremony will take place at 10:00 am. Light refreshments will be provided. Please RSVP for this event.&nbsp\;<br />\n&nbsp\;
LOCATION:NorthStar Market 12081 Brookhurst St. Garden Grove\, 92840
UID:e.1315.5402
SEQUENCE:3
DTSTAMP:20260420T214532Z
URL:http://business.gardengrovechamber.com/events/details/ribbon-cutting-for-northstar-market-05-27-2016-5402
END:VEVENT

END:VCALENDAR
