BEGIN:VCALENDAR
VERSION:2.0
PRODID:-//ChamberMaster//Event Calendar 2.0//EN
METHOD:PUBLISH
X-PUBLISHED-TTL:P3D
REFRESH-INTERVAL:P3D
CALSCALE:GREGORIAN
BEGIN:VEVENT
DTSTART:20141109T013000Z
DTEND:20141109T070000Z
X-MICROSOFT-CDO-ALLDAYEVENT:FALSE
SUMMARY:Roaring 20's Casino Night
DESCRIPTION:Acacia Adult Day Services invites you to join them at their Roaring 20's Casino Night.  There will be food\, opportunity drawings and a silent and live auction.  There will be a chance to win $1\,000 cash or a $500 South Coast Plaza Gift Card.
X-ALT-DESC;FMTTYPE=text/html:Acacia Adult Day Services invites you to join them at their Roaring 20&#39\;s Casino Night. &nbsp\;There will be food\, opportunity drawings and a silent and live auction. &nbsp\;There will be a chance to win $1\,000 cash or a $500 South Coast Plaza Gift Card.
LOCATION:
UID:e.1315.1813
SEQUENCE:3
DTSTAMP:20260424T073528Z
URL:http://business.gardengrovechamber.com/events/details/roaring-20-s-casino-night-11-08-2014-1813
END:VEVENT

END:VCALENDAR
