BEGIN:VCALENDAR
VERSION:2.0
PRODID:-//ChamberMaster//Event Calendar 2.0//EN
METHOD:PUBLISH
X-PUBLISHED-TTL:P3D
REFRESH-INTERVAL:P3D
CALSCALE:GREGORIAN
BEGIN:VEVENT
DTSTART:20150612T220000Z
DTEND:20150612T230000Z
X-MICROSOFT-CDO-ALLDAYEVENT:FALSE
SUMMARY:Ronald Reagan Statue Unveiling
DESCRIPTION:Ronald Reagan's statue will be unveiled in Mile Square Regional Park.
X-ALT-DESC;FMTTYPE=text/html:Ronald Reagan&#39\;s statue will be unveiled in Mile Square Regional Park.
LOCATION:Miles Square Regional Park 16801 Euclid St. Fountain Valley\, CA 92708
UID:e.1315.2939
SEQUENCE:3
DTSTAMP:20260423T205201Z
URL:http://business.gardengrovechamber.com/events/details/ronald-reagan-statue-unveiling-06-12-2015-2939
END:VEVENT

END:VCALENDAR
