BEGIN:VCALENDAR
VERSION:2.0
PRODID:-//ChamberMaster//Event Calendar 2.0//EN
METHOD:PUBLISH
X-PUBLISHED-TTL:P3D
REFRESH-INTERVAL:P3D
CALSCALE:GREGORIAN
BEGIN:VEVENT
DTSTART:20150521T183000Z
DTEND:20150521T200000Z
X-MICROSOFT-CDO-ALLDAYEVENT:FALSE
SUMMARY:ROP Scholarship Women's Division Luncheon
DESCRIPTION:Come join us at the Garden Grove Chamber Women's Division Luncheon held every third Thursday of the month (we go dark in July and August).  Each month we have an interesting guest speaker.  This is our ROP Scholarship Luncheon!!!
X-ALT-DESC;FMTTYPE=text/html:Come join us at the Garden Grove Chamber Women&#39\;s Division Luncheon held every third Thursday of the month (we go dark in July and August). &nbsp\;Each month we have an interesting guest speaker. &nbsp\;This is our ROP Scholarship Luncheon!!!
LOCATION:Garden Grove Elks's Lodge 11551 Trask Avenue Garden Grove\, CA 92843
UID:e.1315.1770
SEQUENCE:3
DTSTAMP:20260423T222611Z
URL:http://business.gardengrovechamber.com/events/details/rop-scholarship-women-s-division-luncheon-05-21-2015-1770
END:VEVENT

END:VCALENDAR
