BEGIN:VCALENDAR
VERSION:2.0
PRODID:-//ChamberMaster//Event Calendar 2.0//EN
METHOD:PUBLISH
X-PUBLISHED-TTL:P3D
REFRESH-INTERVAL:P3D
CALSCALE:GREGORIAN
BEGIN:VEVENT
DTSTART:20150328T150000Z
DTEND:20150328T170000Z
X-MICROSOFT-CDO-ALLDAYEVENT:FALSE
SUMMARY:Run 4 Homeless Children
DESCRIPTION:The Thomas House Family Shelter is having this 5K\, 10K\, 12th 2K Walk-A-Thon and 2K Run Run to help raise funds for their shelter. Event amentiies include Free Child Care (for runner with children ages 3+)\, Finisher medals to all\, Free Food and Moisture wicking race shirts. All events are chip timed\, including the 2K Walk and 2K Fun Run. Dog\, stroller\, and wheelchair friendly. There will be a Progressive Marathon (take severalk weeks to complete your marathon).\n\n\n\nBe there rain or sun\, we will walk or run so that homeless children and their families can be self-sufficient again.
X-ALT-DESC;FMTTYPE=text/html:The Thomas House Family Shelter is having this 5K\, 10K\, 12th 2K Walk-A-Thon and 2K Run Run to help raise funds for their shelter. Event&nbsp\;amentiies include Free Child Care (for runner with children ages 3+)\, Finisher medals to all\, Free Food and Moisture wicking race shirts. All events are chip timed\, including the 2K Walk and 2K Fun Run. Dog\, stroller\, and wheelchair friendly. There will be a Progressive Marathon (take severalk weeks to complete your marathon).<br />\n<br />\nBe there rain or sun\, we will walk or run so that homeless children and their families can be self-sufficient again.
LOCATION:Mile Square Regional Park Forest Shelter 1680 Euclid Street Fountain Valley\, CA 92708
UID:e.1315.2456
SEQUENCE:3
DTSTAMP:20260424T020750Z
URL:http://business.gardengrovechamber.com/events/details/run-4-homeless-children-03-28-2015-2456
END:VEVENT

END:VCALENDAR
