BEGIN:VCALENDAR
VERSION:2.0
PRODID:-//ChamberMaster//Event Calendar 2.0//EN
METHOD:PUBLISH
X-PUBLISHED-TTL:P3D
REFRESH-INTERVAL:P3D
CALSCALE:GREGORIAN
BEGIN:VEVENT
DTSTART;VALUE=DATE:20170428
DTEND;VALUE=DATE:20170501
TRANSP:TRANSPARENT
X-MICROSOFT-CDO-ALLDAYEVENT:TRUE
SUMMARY:Saint Columban's 60th Annual Parish Festival
DESCRIPTION:This year marks our 60th Annual Festival! Come join us Friday-Sunday\, April 28-30\, 2017 at St. Columban Parish. We invite all our community to celebrate with us - all are welcome!\n\n \n\nEnjoy New Rides\, New Games\, Multi-cultural Foods\, Beer & Wine\, Live Entertainment & Dancing\, School Performances\, Raffles\, Silent Auction and much more!\n\n \n\nThe Festival is about coming together for fun & fellowship\, and it's also a fundraiser where proceeds go back to the church & school\, such as helping with new programs\, building upgrades\, and giving back to the community. Thanks for your support\, and we hope to see you there!\n\n \n\nFor Sponsorship Opportunities\,\n\nplease contact Sharon Ricciardelli at:\n\nsahrgwtw@sbcglobal.net\n\n714-636-2548
X-ALT-DESC;FMTTYPE=text/html:<span style="color:#1D2129\;"><span style="font-family:helvetica\,sans-serif\;"><span style="font-size:10.5pt\;">This year marks our 60th Annual Festival! Come join us Friday-Sunday\, April 28-30\, 2017 at St. Columban Parish. We invite all our community to celebrate with us - all are welcome!</span></span></span><br />\n&nbsp\;<br />\n<span style="color:#1D2129\;"><span style="font-family:helvetica\,sans-serif\;"><span style="font-size:10.5pt\;">Enjoy New Rides\, New Games\, Multi-cultural Foods\, Beer &amp\; Wine\, Live Entertainment &amp\; Dancing\, School Performances\, Raffles\, Silent Auction and much more!</span></span></span><br />\n&nbsp\;<br />\n<span style="color:#1D2129\;"><span style="font-family:helvetica\,sans-serif\;"><span style="font-size:10.5pt\;">The Festival is about coming together for fun &amp\; fellowship\, and it&#39\;s also a&nbsp\;fundraiser where proceeds go back to the church &amp\; school\, such as helping with new programs\, building upgrades\, and giving back to the community. Thanks for your support\, and we hope to see you there!</span></span></span><br />\n&nbsp\;<br />\n<span style="color:#1D2129\;"><span style="font-family:helvetica\,sans-serif\;"><span style="font-size:10.5pt\;">For Sponsorship Opportunities\,<br />\nplease contact Sharon Ricciardelli at:<br />\n<a href="mailto:sahrgwtw@sbcglobal.net">sahrgwtw@sbcglobal.net</a><br />\n714-636-2548</span></span></span>
LOCATION:Saint Columban Parish 10801 Stanford Avenue Garden Grove\, CA 92840
UID:e.1315.6135
SEQUENCE:3
DTSTAMP:20260420T044124Z
URL:http://business.gardengrovechamber.com/events/details/saint-columban-s-60th-annual-parish-festival-6135
END:VEVENT

END:VCALENDAR
