BEGIN:VCALENDAR
VERSION:2.0
PRODID:-//ChamberMaster//Event Calendar 2.0//EN
METHOD:PUBLISH
X-PUBLISHED-TTL:P3D
REFRESH-INTERVAL:P3D
CALSCALE:GREGORIAN
BEGIN:VEVENT
DTSTART:20170928T143000Z
DTEND:20170928T230000Z
X-MICROSOFT-CDO-ALLDAYEVENT:FALSE
SUMMARY:SCORE 5th Annual Women Business Owners Conference
DESCRIPTION:SCORE 5th Annual Women Business Owners ConferenceDare to Stand Out!\n\n\n\n$79 price includes breakfast\, lunch\, and parking.\n\n      A women's interactive conference for the savvy Entrepreneur\n\n      Learn to market big even when it is just you!\n\n      Educate your employees with new marketing techniques  \n\n\n\nKeynote speaker Nellie Akalp talks on How to Embrace the "Small" in Small Business.  \n\nNellie and her husband and business partner started their first business in 1997 with $100 and sold it to Intuit eight years later for $20 million. Instead of retiring early they got back into the industry in 2009 with the launch of CorpNet.com. In 2016 Nellie was named Women Business Owner of the Year by NAWBO Ventura County. CorpNet has been recognized on the Inc.5000 list in 2016 and 2017. \n\n\n\nOther speakers include: \n\n    Liz Goodgold: REDFire Branding\n\n     Author\, Speaker\, & Branding Expert  \n\n    Lisa T.D. Nguyen: Founder of Senhoa Jewelry\n\n    Entrepreneur\, TV Host & TED Speaker  \n\n    Roni Ramos: Founder of Harmony 3 Productions\n\n    Social Media Strategist \n\n\n\nExhibit Tables available for $225 attendee included:\n\n\n\nShare your promotional material with 250 attendees\n\n\n\nWomen business owners to meet and network For info please contact Debbie Molino:\n\n\n\nDebbie.Molino@score114.org or 714-550-7369\n\n\n\nTo register visit www.scorewboc.com
X-ALT-DESC;FMTTYPE=text/html:SCORE 5th Annual Women Business Owners ConferenceDare to Stand Out!<br />\n<br />\n$79 price includes breakfast\, lunch\, and parking.<br />\n&nbsp\;&nbsp\;&nbsp\;&nbsp\;&bull\;&nbsp\;A women&rsquo\;s interactive conference for the savvy Entrepreneur<br />\n&nbsp\;&nbsp\;&nbsp\;&nbsp\;&bull\; Learn to market big even when it is just you!<br />\n&nbsp\;&nbsp\;&nbsp\;&nbsp\;&bull\; Educate your employees with new marketing techniques&nbsp\;&nbsp\;<br />\n<br />\nKeynote speaker Nellie Akalp talks on How to Embrace the &ldquo\;Small&rdquo\; in Small&nbsp\;Business.&nbsp\;&nbsp\;<br />\nNellie and her husband and business partner started their first business in 1997 with $100 and sold it to Intuit&nbsp\;eight years later&nbsp\;for $20 million. Instead of retiring early they got back into the industry in 2009 with the launch of&nbsp\;CorpNet.com. In 2016 Nellie was named Women Business Owner of the Year by NAWBO Ventura County. CorpNet has been recognized on the Inc.5000 list in 2016 and 2017.&nbsp\;<br />\n<br />\nOther speakers include:&nbsp\;<br />\n&nbsp\;&nbsp\;&nbsp\;<strong>&nbsp\;Liz Goodgold:</strong> REDFire Branding<br />\n&nbsp\;&nbsp\;&nbsp\;&nbsp\;&nbsp\;Author\, Speaker\, &amp\; Branding Expert&nbsp\;&nbsp\;<br />\n&nbsp\;&nbsp\;&nbsp\;&nbsp\;<strong>Lisa T.D. Nguyen: </strong>Founder of Senhoa Jewelry<br />\n&nbsp\;&nbsp\;&nbsp\;&nbsp\;Entrepreneur\, TV Host &amp\; TED Speaker&nbsp\;&nbsp\;<br />\n&nbsp\;&nbsp\;&nbsp\;&nbsp\;<strong>Roni Ramos: </strong>Founder of Harmony 3 Productions<br />\n&nbsp\;&nbsp\;&nbsp\;&nbsp\;Social Media Strategist&nbsp\;<br />\n<br />\nExhibit Tables available for $225 attendee included:<br />\n<br />\nShare your promotional material with 250 attendees<br />\n<br />\nWomen business owners to meet and network&nbsp\;For info please contact Debbie Molino:<br />\n<br />\nDebbie.Molino@score114.org&nbsp\;or 714-550-7369<br />\n<br />\nTo register visit www.scorewboc.com
LOCATION:Great Wolf Lodge 12681 Harbor Blvd.\, Garden Grove\, CA 92840
UID:e.1315.6186
SEQUENCE:3
DTSTAMP:20260419T222515Z
URL:http://business.gardengrovechamber.com/events/details/score-5th-annual-women-business-owners-conference-6186
END:VEVENT

END:VCALENDAR
