BEGIN:VCALENDAR
VERSION:2.0
PRODID:-//ChamberMaster//Event Calendar 2.0//EN
METHOD:PUBLISH
X-PUBLISHED-TTL:P3D
REFRESH-INTERVAL:P3D
CALSCALE:GREGORIAN
BEGIN:VEVENT
DTSTART:20150819T003000Z
DTEND:20150819T033000Z
X-MICROSOFT-CDO-ALLDAYEVENT:FALSE
SUMMARY:SCORE: An Easy Trip Through Your Financial Statements
DESCRIPTION:Want to know where financial statements come from and how to make them work for you? This workshop includes basic accounting principles and an interactive case study where you'll learn how The Widget Company builds its Balance Sheet\, Income Statement\, Cash Flow and then uses Ratio Analysis to create a healthy\, profitable business.\n\n\n\nBonnie Copeland of SCORE presents this workshop. Bonnie started her own retail ski shop at the age of nineteen\, built it in five years to $1 million in sales\, and then sold it in favor of a career as a stay-at-home mom. Within a year she had started a new home-based business selling custom portraits of children and pets through mail order and specialty shops. Five years later Bonnie sold this business\, then earned her MBA and moved to Southern California to work as Project Financial Analyst for Hughes Aircraft and Project Manager for Shell Oil. Later\, as a Financial Manager for the Disney Corporation\, she worked on the construction of Thunder Mountain Railroad and managed financial affairs for Disney University and all of the Disney-owned stores at the park and hotels. For over eleven years she was Finance Manager for Digital Equipment Corporation\, working directly with the Vice President of Sales to manage the financial aspects of a 600-person sales force. She was executive partner to several aerospace and banking firms. Bonnie wrote the strategic plan for a $50 million new venture. She now works part-time doing marketing\, accounting\, and financial planning for a small family-owned firm.\n\n\n\n(Registration/Check-in 5:00 to 5:30 PM)
X-ALT-DESC;FMTTYPE=text/html:Want to know where financial statements come from and how to make them work for you? This workshop includes basic accounting principles and an interactive case study where you&rsquo\;ll learn how The Widget Company builds its Balance Sheet\, Income Statement\, Cash Flow and then uses Ratio Analysis to create a healthy\, profitable business.<br />\n<br />\nBonnie Copeland of SCORE presents this workshop. Bonnie started her own retail ski shop at the age of nineteen\, built it in five years to $1 million in sales\, and then sold it in favor of a career as a stay-at-home mom. Within a year she had started a new home-based business selling custom portraits of children and pets through mail order and specialty shops. Five years later Bonnie sold this business\, then earned her MBA and moved to Southern California to work as Project Financial Analyst for Hughes Aircraft and Project Manager for Shell Oil. Later\, as a Financial Manager for the Disney Corporation\, she worked on the construction of Thunder Mountain Railroad and managed financial affairs for Disney University and all of the Disney-owned stores at the park and hotels. For over eleven years she was Finance Manager for Digital Equipment Corporation\, working directly with the Vice President of Sales to manage the financial aspects of a 600-person sales force. She was executive partner to several aerospace and banking firms. Bonnie wrote the strategic plan for a $50 million new venture. She now works part-time doing marketing\, accounting\, and financial planning for a small family-owned firm.<br />\n<br />\n(Registration/Check-in 5:00 to 5:30 PM)
LOCATION:Westminster Branch\, OC Public Library 8180 13th Street Community Room Westminster\, CA 92683
UID:e.1315.3424
SEQUENCE:3
DTSTAMP:20260423T175900Z
URL:http://business.gardengrovechamber.com/events/details/score-an-easy-trip-through-your-financial-statements-08-18-2015-3424
END:VEVENT

END:VCALENDAR
