BEGIN:VCALENDAR
VERSION:2.0
PRODID:-//ChamberMaster//Event Calendar 2.0//EN
METHOD:PUBLISH
X-PUBLISHED-TTL:P3D
REFRESH-INTERVAL:P3D
CALSCALE:GREGORIAN
BEGIN:VEVENT
DTSTART;VALUE=DATE:20150806
DTEND;VALUE=DATE:20150807
TRANSP:TRANSPARENT
X-MICROSOFT-CDO-ALLDAYEVENT:TRUE
SUMMARY:SCORE Mentoring for Businesses in Garden Grove
DESCRIPTION:Please call our main office at (714) 550-7369 to arrange a one hour session at most of our locations. The office manager will schedule you with one of our mentors that matches your needs. This phone number is staffed Monday through Friday from 9:00 am to 2:30 pm. If the phone is busy or\, if you call after hours\, please leave a voice mail with your contact information and we will return your call as soon as possible.\n\n \n\nHere are just a few of the ways SCORE mentors are helping thousands of business entrepreneurs like you.\n\n	Developing and revising business plans\n	Reviewing alternative ways to secure financing\n	Acting as a "sounding board" for ideas and concerns\n	Providing guidance on where and how to obtain assistance and data\n	Suggesting marketing\, promotional and sales approaches\n	Resolving organizational and staffing issues\n	Taking advantage of import or export opportunities\n	Advise on how to pursue patent or trademark registration\n	And\, much\, much\, more...
X-ALT-DESC;FMTTYPE=text/html:Please call our main office at (714) 550-7369 to arrange a one hour session at most of our locations. The office manager will schedule you with one of our mentors that matches your needs. This phone number is staffed Monday through Friday from 9:00 am to 2:30 pm. If the phone is busy or\, if you call after hours\, please leave a voice mail with your contact information and we will return your call as soon as possible.<br />\n&nbsp\;<br />\nHere are just a few of the ways SCORE mentors are helping thousands of business entrepreneurs like you.\n<ul>\n	<li>Developing and revising business plans</li>\n	<li>Reviewing alternative ways to secure financing</li>\n	<li>Acting as a &ldquo\;sounding board&rdquo\; for ideas and concerns</li>\n	<li>Providing guidance on where and how to obtain assistance and data</li>\n	<li>Suggesting marketing\, promotional and sales approaches</li>\n	<li>Resolving organizational and staffing issues</li>\n	<li>Taking advantage of import or export opportunities</li>\n	<li>Advise on how to pursue patent or trademark registration</li>\n	<li>And\, much\, much\, more...</li>\n</ul>\n&nbsp\;
LOCATION:Garden Grove City Hall 3rd Floor 11222 Acacia Parkway Garden Grove\, CA 92840
UID:e.1315.3420
SEQUENCE:3
DTSTAMP:20260423T175936Z
URL:http://business.gardengrovechamber.com/events/details/score-mentoring-for-businesses-in-garden-grove-08-06-2015-3420
END:VEVENT

END:VCALENDAR
