BEGIN:VCALENDAR
VERSION:2.0
PRODID:-//ChamberMaster//Event Calendar 2.0//EN
METHOD:PUBLISH
X-PUBLISHED-TTL:P3D
REFRESH-INTERVAL:P3D
CALSCALE:GREGORIAN
BEGIN:VEVENT
DTSTART:20150306T223000Z
DTEND:20150307T003000Z
X-MICROSOFT-CDO-ALLDAYEVENT:FALSE
SUMMARY:Senior Scam Stopper Seminar
DESCRIPTION:72nd District Assemblyman Travis Allen is hosting the Senior Scam Stopper Seminar in coordination with the Contractors State License Board. Seniors can learn more about protecting themselves and their finances from the latest scams and deceptions.\n\n\n\nPlease RSVP for this event at 714-843-4966 or at www.asm.ca.gov/allen
X-ALT-DESC;FMTTYPE=text/html:72nd District&nbsp\;Assemblyman Travis Allen is hosting the S<em><strong>enior Scam Stopper</strong></em> <strong><em>Seminar</em></strong>&nbsp\;in coordination with the Contractors State License Board. Seniors can learn more about protecting themselves and their finances from the latest scams and deceptions.<br />\n<br />\n<span style="color:#FF0000\;"><strong>Please RSVP for this event at 714-843-4966 or at www.asm.ca.gov/</strong></span><span style="color:#FF0000\;"><strong>allen</strong></span>
LOCATION:Center at Founders Village 17967 Bushard Street Fountain Valley\, CA 92708
UID:e.1315.2457
SEQUENCE:3
DTSTAMP:20260424T020724Z
URL:http://business.gardengrovechamber.com/events/details/senior-scam-stopper-seminar-03-06-2015-2457
END:VEVENT

END:VCALENDAR
