BEGIN:VCALENDAR
VERSION:2.0
PRODID:-//ChamberMaster//Event Calendar 2.0//EN
METHOD:PUBLISH
X-PUBLISHED-TTL:P3D
REFRESH-INTERVAL:P3D
CALSCALE:GREGORIAN
BEGIN:VEVENT
DTSTART:20140504T210000Z
DTEND:20140504T230000Z
X-MICROSOFT-CDO-ALLDAYEVENT:FALSE
SUMMARY:Silver Spoon Awards
DESCRIPTION:Mark your calendars for the 51st. Annual Silver Spoon Awards the Garden Grove Chamber of Commerce Women's Division is having.
X-ALT-DESC;FMTTYPE=text/html:Mark your calendars for the 51st. Annual Silver Spoon Awards the Garden Grove Chamber of Commerce Women&#39\;s Division is having. &nbsp\;
LOCATION:Embassy Suites Hotel 11767 Harbor Blvd. Garden Grove\, CA 92840
UID:e.1315.1322
SEQUENCE:3
DTSTAMP:20260424T160200Z
URL:http://business.gardengrovechamber.com/events/details/silver-spoon-awards-05-04-2014-1322
END:VEVENT

END:VCALENDAR
