BEGIN:VCALENDAR
VERSION:2.0
PRODID:-//ChamberMaster//Event Calendar 2.0//EN
METHOD:PUBLISH
X-PUBLISHED-TTL:P3D
REFRESH-INTERVAL:P3D
CALSCALE:GREGORIAN
BEGIN:VEVENT
DTSTART:20170203T020000Z
DTEND:20170203T043000Z
X-MICROSOFT-CDO-ALLDAYEVENT:FALSE
SUMMARY:Small Business Jump Start
DESCRIPTION:The Orange County Small Business Development Center (SBDC) is presenting a workshop on "Small Business Jump-Start". This workshop will give information for anyone who has a great idea or passion and want to turn it into a business.\n\nRegister here:  http://santaanadistrictsbdc.ecenterdirect.com/events/5531
X-ALT-DESC;FMTTYPE=text/html:The Orange County Small Business Development Center (SBDC) is presenting a workshop on <strong><em>&quot\;Small Business Jump-Start&quot\;. </em></strong>This workshop&nbsp\;will give information&nbsp\;for anyone who has a great idea or passion and want to turn it into a business.<br />\nRegister here:&nbsp\; <a data-saferedirecturl="https://www.google.com/url?hl=en&amp\;q=http://santaanadistrictsbdc.ecenterdirect.com/events/5531&amp\;source=gmail&amp\;ust=1484156679076000&amp\;usg=AFQjCNFDAUx7utn-Nv3RT-fuEVptdIgEVA" href="http://santaanadistrictsbdc.ecenterdirect.com/events/5531" style="color: rgb(17\, 85\, 204)\; font-family: calibri\, sans-serif\; font-size: 14.6667px\; font-style: normal\; font-variant-ligatures: normal\; font-variant-caps: normal\; font-weight: normal\; letter-spacing: normal\; orphans: 2\; text-align: start\; text-indent: 0px\; text-transform: none\; white-space: normal\; widows: 2\; word-spacing: 0px\; -webkit-text-stroke-width: 0px\; background-color: rgb(255\, 255\, 255)\;" target="_blank">http://santaanadistrictsbdc.<wbr />ecenterdirect.com/events/5531</a>
LOCATION:Garden Grove Community Meeting Center Constitution Room 11300 Stanford Avenue Garden Grove\, CA 92840
UID:e.1315.6067
SEQUENCE:3
DTSTAMP:20260420T073304Z
URL:http://business.gardengrovechamber.com/events/details/small-business-jump-start-6067
END:VEVENT

END:VCALENDAR
