BEGIN:VCALENDAR
VERSION:2.0
PRODID:-//ChamberMaster//Event Calendar 2.0//EN
METHOD:PUBLISH
X-PUBLISHED-TTL:P3D
REFRESH-INTERVAL:P3D
CALSCALE:GREGORIAN
BEGIN:VEVENT
DTSTART:20120726T150000Z
DTEND:20120726T180000Z
X-MICROSOFT-CDO-ALLDAYEVENT:FALSE
SUMMARY:Small Business Workshop Focused on Doing Business Abroad
DESCRIPTION:Congresswoman Loretta Sanchez invites you to her FREE Small Business Workshop focusing on "Expanding your Markets: Doing Business Abroad"\n\n\n\nWHAT: Small Business Workshop Focused on Doing Business Abroad \n\n\n\nWHEN: Thursday\, July 26\, 2012 from 8:00 a.m. to 11:00 a.m.\n\n\n\nWHERE: Rancho Santiago Community College District\, Boardroom\n\n\n\nThe event will feature representatives from:\n\nOverseas Protection Investment Corporation (OPIC)\n\nUnited States Import/ Export Bank\n\nUnited States Department of Commerce\n\nCalifornia Center for International Trade Development (CITD)
X-ALT-DESC;FMTTYPE=text/html:<span style="font-size: 10pt"><span style="font-family: verdana\,sans-serif">Congresswoman Loretta Sanchez invites you to her FREE Small Business Workshop focusing on &quot\;Expanding your Markets: Doing Business Abroad&quot\;<br />\n<br />\nWHAT: Small Business Workshop Focused on Doing Business Abroad&nbsp\;<br />\n<br />\nWHEN: Thursday\, July 26\, 2012 from 8:00 a.m. to 11:00 a.m.<br />\n<br />\nWHERE: Rancho Santiago Community College District\, Boardroom</span></span><br />\n<br />\n<span style="font-size: 10pt"><span style="font-family: verdana\,sans-serif">The event&nbsp\;will feature representatives from:</span></span><br />\n<span style="font-size: 10pt"><span style="font-family: verdana\,sans-serif">Overseas Protection Investment Corporation (OPIC)</span></span><br />\n<span style="font-size: 10pt"><span style="font-family: verdana\,sans-serif">United States Import/ Export Bank</span></span><br />\n<span style="font-size: 10pt"><span style="font-family: verdana\,sans-serif">United States Department of Commerce</span></span><br />\n<span style="font-size: 10pt"><span style="font-family: verdana\,sans-serif">California Center for International Trade Development (CITD)</span></span>
LOCATION:Rancho Santiago Community College District Boardroom 2323 N. Broadway Street\, 1st Floor Santa Ana\, CA 92701
UID:e.1315.316
SEQUENCE:3
DTSTAMP:20260426T042649Z
URL:http://business.gardengrovechamber.com/events/details/small-business-workshop-focused-on-doing-business-abroad-07-26-2012-316
END:VEVENT

END:VCALENDAR
