BEGIN:VCALENDAR
VERSION:2.0
PRODID:-//ChamberMaster//Event Calendar 2.0//EN
METHOD:PUBLISH
X-PUBLISHED-TTL:P3D
REFRESH-INTERVAL:P3D
CALSCALE:GREGORIAN
BEGIN:VEVENT
DTSTART:20160426T150000Z
DTEND:20160426T223000Z
X-MICROSOFT-CDO-ALLDAYEVENT:FALSE
SUMMARY:So Cal Largest 8(a) and Small Business Matchmaking Event!
DESCRIPTION:The SBA's Santa Ana District Office and Orange County/Inland Empire SBDC are proud to present the 6th Annual Southern California 8(a) and Small Business Conference.  The 2016 Conference will be held at the Wyndham Anaheim Garden Grove on April 26\, 2016.  \n\n \n\nThe purpose of this Conference is to provide a forum to educate\, guide\, and assist small business\, in working with federal\, local\, and state governments. This event will provide an opportunity to meet buyers and contracting officers from large companies and government agencies to discuss business opportunities in a one-on-one setting.\n\n \n\nThe SBA's Santa Ana District Office is engaging subject matter experts to deliver informative presentations on topics of importance to government and commercial sector prime and subcontractors through numerous workshops. There will also be plenty of opportunities for networking.\n\n \n\nKeep in mind: THIS IS A TOOL IN THE PROCUREMENT PROCESS. DO NOT EXPECT TO WIN A CONTRACT ON-SITE. Ask pertinent questions and find out what companies and agencies are looking for and what you need to do to qualify.\n\n \n\nThis will be our largest conference to date.  You can't afford to miss this event.
X-ALT-DESC;FMTTYPE=text/html:<p class="font_7" style="margin: 0px\; padding: 0px\; border: 0px\; outline: 0px\; vertical-align: baseline\; font-stretch: normal\; font-size: 17px\; line-height: normal\; font-family: din-next-w01-light\, din-next-w02-light\, din-next-w10-light\, sans-serif\; color: rgb(96\, 94\, 94)\; text-align: justify\; background: transparent\;"><span style="color:#000000\;"><span style="font-size:12px\;"><span style="font-family:arial\;"><span class="color_2" style="margin: 0px\; padding: 0px\; border: 0px\; outline: 0px\; vertical-align: baseline\; background: transparent\;">The SBA&rsquo\;s Santa Ana District Office and Orange County/Inland Empire SBDC are proud to present the 6th Annual Southern California 8(a) and Small Business Conference.&nbsp\; The 2016 Conference will be held at the Wyndham Anaheim Garden Grove on April 26\, 2016. &nbsp\;</span></span></span></span></p>\n\n<p class="font_7" style="margin: 0px\; padding: 0px\; border: 0px\; outline: 0px\; vertical-align: baseline\; font-stretch: normal\; font-size: 17px\; line-height: normal\; font-family: din-next-w01-light\, din-next-w02-light\, din-next-w10-light\, sans-serif\; color: rgb(96\, 94\, 94)\; text-align: justify\; background: transparent\;">&nbsp\;</p>\n\n<p class="font_7" style="margin: 0px\; padding: 0px\; border: 0px\; outline: 0px\; vertical-align: baseline\; font-stretch: normal\; font-size: 17px\; line-height: normal\; font-family: din-next-w01-light\, din-next-w02-light\, din-next-w10-light\, sans-serif\; color: rgb(96\, 94\, 94)\; text-align: justify\; background: transparent\;"><span style="color:#000000\;"><span style="font-size:12px\;"><span style="font-family:arial\;"><span class="color_2" style="margin: 0px\; padding: 0px\; border: 0px\; outline: 0px\; vertical-align: baseline\; background: transparent\;">The purpose of this Conference is to provide a forum to educate\, guide\, and assist small business\, in working with federal\, local\, and state governments. This event will provide an opportunity to meet buyers and contracting officers from large companies and government agencies to discuss business opportunities in a one-on-one setting.</span></span></span></span></p>\n\n<p class="font_7" style="margin: 0px\; padding: 0px\; border: 0px\; outline: 0px\; vertical-align: baseline\; font-stretch: normal\; font-size: 17px\; line-height: normal\; font-family: din-next-w01-light\, din-next-w02-light\, din-next-w10-light\, sans-serif\; color: rgb(96\, 94\, 94)\; text-align: justify\; background: transparent\;">&nbsp\;</p>\n\n<p class="font_7" style="margin: 0px\; padding: 0px\; border: 0px\; outline: 0px\; vertical-align: baseline\; font-stretch: normal\; font-size: 17px\; line-height: normal\; font-family: din-next-w01-light\, din-next-w02-light\, din-next-w10-light\, sans-serif\; color: rgb(96\, 94\, 94)\; text-align: justify\; background: transparent\;"><span style="color:#000000\;"><span style="font-size:12px\;"><span style="font-family:arial\;"><span class="color_2" style="margin: 0px\; padding: 0px\; border: 0px\; outline: 0px\; vertical-align: baseline\; background: transparent\;">The SBA&rsquo\;s Santa Ana District Office is engaging subject matter experts to deliver informative presentations on topics of importance to government and commercial sector prime and subcontractors through numerous workshops. There will also be plenty of opportunities for networking.</span></span></span></span></p>\n\n<p class="font_7" style="margin: 0px\; padding: 0px\; border: 0px\; outline: 0px\; vertical-align: baseline\; font-stretch: normal\; font-size: 17px\; line-height: normal\; font-family: din-next-w01-light\, din-next-w02-light\, din-next-w10-light\, sans-serif\; color: rgb(96\, 94\, 94)\; text-align: justify\; background: transparent\;">&nbsp\;</p>\n\n<p class="font_7" style="margin: 0px\; padding: 0px\; border: 0px\; outline: 0px\; vertical-align: baseline\; font-stretch: normal\; font-size: 17px\; line-height: normal\; font-family: din-next-w01-light\, din-next-w02-light\, din-next-w10-light\, sans-serif\; color: rgb(96\, 94\, 94)\; text-align: justify\; background: transparent\;"><span style="color:#000000\;"><span style="font-size:12px\;"><span style="font-family:arial\;"><span class="color_2" style="margin: 0px\; padding: 0px\; border: 0px\; outline: 0px\; vertical-align: baseline\; background: transparent\;">Keep in mind: THIS IS A TOOL IN THE PROCUREMENT PROCESS. DO NOT EXPECT TO WIN A CONTRACT ON-SITE. Ask pertinent questions and find out what companies and agencies are looking for and what you need to do to qualify.</span></span></span></span></p>\n\n<p class="font_7" style="margin: 0px\; padding: 0px\; border: 0px\; outline: 0px\; vertical-align: baseline\; font-stretch: normal\; font-size: 17px\; line-height: normal\; font-family: din-next-w01-light\, din-next-w02-light\, din-next-w10-light\, sans-serif\; color: rgb(96\, 94\, 94)\; text-align: justify\; background: transparent\;">&nbsp\;</p>\n\n<p class="font_7" style="margin: 0px\; padding: 0px\; border: 0px\; outline: 0px\; vertical-align: baseline\; font-stretch: normal\; font-size: 17px\; line-height: normal\; font-family: din-next-w01-light\, din-next-w02-light\, din-next-w10-light\, sans-serif\; color: rgb(96\, 94\, 94)\; text-align: justify\; background: transparent\;"><span style="color:#000000\;"><span style="font-size:12px\;"><span style="font-family:arial\;"><span class="color_2" style="margin: 0px\; padding: 0px\; border: 0px\; outline: 0px\; vertical-align: baseline\; background: transparent\;">This will be our largest conference to date.&nbsp\; You can&rsquo\;t afford to miss this event.</span></span></span></span></p>\n
LOCATION:Wyndham Anaheim Garden Grove 12021 Harbor Blvd Garden Grove\, CA 92840
UID:e.1315.5128
SEQUENCE:3
DTSTAMP:20260420T231547Z
URL:http://business.gardengrovechamber.com/events/details/so-cal-largest-8-a-and-small-business-matchmaking-event-04-26-2016-5128
END:VEVENT

END:VCALENDAR
