BEGIN:VCALENDAR
VERSION:2.0
PRODID:-//ChamberMaster//Event Calendar 2.0//EN
METHOD:PUBLISH
X-PUBLISHED-TTL:P3D
REFRESH-INTERVAL:P3D
CALSCALE:GREGORIAN
BEGIN:VEVENT
DTSTART:20160518T160000Z
DTEND:20160518T200000Z
X-MICROSOFT-CDO-ALLDAYEVENT:FALSE
SUMMARY:South OC Job Fair
DESCRIPTION:The OCWIB and Orange County Supervisor Lisa Bartlett invite you to the 2016 South Orange County Job Fair!
X-ALT-DESC;FMTTYPE=text/html:The OCWIB and Orange County Supervisor Lisa Bartlett invite you to the 2016 South Orange County Job Fair!&nbsp\;&nbsp\;&nbsp\;&nbsp\;&nbsp\;&nbsp\;&nbsp\;&nbsp\;
LOCATION:Laguna Hills Mall 24155 Laguna Hills Mall Laguna Hills\, CA 92653
UID:e.1315.5398
SEQUENCE:3
DTSTAMP:20260420T214500Z
URL:http://business.gardengrovechamber.com/events/details/south-oc-job-fair-05-18-2016-5398
END:VEVENT

END:VCALENDAR
