BEGIN:VCALENDAR
VERSION:2.0
PRODID:-//ChamberMaster//Event Calendar 2.0//EN
METHOD:PUBLISH
X-PUBLISHED-TTL:P3D
REFRESH-INTERVAL:P3D
CALSCALE:GREGORIAN
BEGIN:VEVENT
DTSTART:20170423T013000Z
DTEND:20170423T043000Z
X-MICROSOFT-CDO-ALLDAYEVENT:FALSE
SUMMARY:Space Oddity - Outdoor Concert
DESCRIPTION:Space Oddity tribute to David Bowie. Open air outdoor concert under the stars. Since you can no longer see David Bowie live come see the next best thing. In our 540 seat theater\, every seat is a great seat and a great time is had by all.
X-ALT-DESC;FMTTYPE=text/html:Space Oddity tribute to David Bowie. Open air outdoor concert under the stars. Since you can no longer see David Bowie live come see the next best thing. In our 540 seat theater\, every seat is a great seat and a great time is had by all.
LOCATION:12762 Main Street Garden Grove
UID:e.1315.6111
SEQUENCE:3
DTSTAMP:20260420T043848Z
URL:http://business.gardengrovechamber.com/events/details/space-oddity-outdoor-concert-6111
END:VEVENT

END:VCALENDAR
