BEGIN:VCALENDAR
VERSION:2.0
PRODID:-//ChamberMaster//Event Calendar 2.0//EN
METHOD:PUBLISH
X-PUBLISHED-TTL:P3D
REFRESH-INTERVAL:P3D
CALSCALE:GREGORIAN
BEGIN:VEVENT
DTSTART:20161126T010000Z
DTEND:20161126T060000Z
X-MICROSOFT-CDO-ALLDAYEVENT:FALSE
SUMMARY:St. Paul's Lutheran Church and Schools' Friday Night Out
DESCRIPTION:Friday Night Out is for parents and kids alike. We will babysit for awhile\, and parents can have the evening to have date night or a quiet night at home. We provide a healthy kid-friendly dinner\, a G-rated movie\, snacks\, games\, and story time for your children.
X-ALT-DESC;FMTTYPE=text/html:Friday Night Out is for parents and kids alike. We will babysit for awhile\, and parents can have the evening to have date night or a quiet night at home. We provide a healthy kid-friendly dinner\, a G-rated movie\, snacks\, games\, and story time for your children.
LOCATION:At St. Paul's Lutheran Church and School of Garden Grove's Daycare Room 13082 Bowen St. Garden Grove\, CA 92843
UID:e.1315.6040
SEQUENCE:3
DTSTAMP:20260420T120945Z
URL:http://business.gardengrovechamber.com/events/details/st-paul-s-lutheran-church-and-schools-friday-night-out-6040
END:VEVENT

END:VCALENDAR
