BEGIN:VCALENDAR
VERSION:2.0
PRODID:-//ChamberMaster//Event Calendar 2.0//EN
METHOD:PUBLISH
X-PUBLISHED-TTL:P3D
REFRESH-INTERVAL:P3D
CALSCALE:GREGORIAN
BEGIN:VEVENT
DTSTART;VALUE=DATE:20161121
DTEND;VALUE=DATE:20161203
TRANSP:TRANSPARENT
X-MICROSOFT-CDO-ALLDAYEVENT:TRUE
SUMMARY:St. Paul's Lutheran Church and Schools' Thanksgiving Camp
DESCRIPTION:This is a two-week weekday child care program\, where everything has a Thanksgiving theme. Kids can make new friends\, and do some fantastic kid-friendly Thanksgiving activities! We have games\, crafts\, community service projects\, and a few field trips planned. This program is for children from our surrounding communities! We are so excited to celebrate Thanksgiving time with you!
X-ALT-DESC;FMTTYPE=text/html:This is a two-week weekday child care program\, where everything has a Thanksgiving theme. Kids can make new friends\, and do some fantastic kid-friendly Thanksgiving activities! We have games\, crafts\, community service projects\, and a few field trips planned. This program is for children from our surrounding communities! We are so excited to celebrate Thanksgiving time with you!
LOCATION:St. Paul's Lutheran Church and Schools 13082 Bowen St. Garden Grove\, CA 92843
UID:e.1315.6039
SEQUENCE:3
DTSTAMP:20260420T103448Z
URL:http://business.gardengrovechamber.com/events/details/st-paul-s-lutheran-church-and-schools-thanksgiving-camp-6039
END:VEVENT

END:VCALENDAR
