BEGIN:VCALENDAR
VERSION:2.0
PRODID:-//ChamberMaster//Event Calendar 2.0//EN
METHOD:PUBLISH
X-PUBLISHED-TTL:P3D
REFRESH-INTERVAL:P3D
CALSCALE:GREGORIAN
BEGIN:VEVENT
DTSTART:20150327T210000Z
DTEND:20150327T220000Z
X-MICROSOFT-CDO-ALLDAYEVENT:FALSE
SUMMARY:State Farm Maribel Palma Agency Ribbon Cutting Ceremony
DESCRIPTION:Please join us for the grand opening and ribbon cutting ceremony for the Garden Grove State Farm Agency. Refreshments will be provided.
X-ALT-DESC;FMTTYPE=text/html:Please join us for the grand opening and ribbon cutting ceremony for the Garden Grove State Farm Agency. Refreshments will be provided.&nbsp\;
LOCATION:11512 Magnolia Street\, Suite 103 Garden Grove\, CA 92841
UID:e.1315.2925
SEQUENCE:3
DTSTAMP:20260424T020935Z
URL:http://business.gardengrovechamber.com/events/details/state-farm-maribel-palma-agency-ribbon-cutting-ceremony-03-27-2015-2925
END:VEVENT

END:VCALENDAR
