BEGIN:VCALENDAR
VERSION:2.0
PRODID:-//ChamberMaster//Event Calendar 2.0//EN
METHOD:PUBLISH
X-PUBLISHED-TTL:P3D
REFRESH-INTERVAL:P3D
CALSCALE:GREGORIAN
BEGIN:VEVENT
DTSTART:20170822T010000Z
DTEND:20170822T030000Z
X-MICROSOFT-CDO-ALLDAYEVENT:FALSE
SUMMARY:Steel Craft Community Engagement Meeting
DESCRIPTION:Community members and stakeholders are invited to attend an information session regarding the newest City project SteelCraft Garden Grove. \n\n\n\nThis engagement session will be an opportunity for the community to participate in a facilitated discussion\, ask questions\, and provide valuable feedback to the SteelCraft development team.
X-ALT-DESC;FMTTYPE=text/html:Community members and stakeholders are invited to attend an information session regarding the newest City project SteelCraft Garden Grove.&nbsp\;<br />\n<br />\nThis engagement session will be an opportunity for the community to participate in a facilitated discussion\, ask questions\, and provide valuable feedback to the SteelCraft development team.&nbsp\;
LOCATION:Community Meeting Center B Room 11300 Stanford Avenue Garden Grove\, CA 92840
UID:e.1315.6209
SEQUENCE:3
DTSTAMP:20260420T000306Z
URL:http://business.gardengrovechamber.com/events/details/steel-craft-community-engagement-meeting-6209
END:VEVENT

END:VCALENDAR
