BEGIN:VCALENDAR
VERSION:2.0
PRODID:-//ChamberMaster//Event Calendar 2.0//EN
METHOD:PUBLISH
X-PUBLISHED-TTL:P3D
REFRESH-INTERVAL:P3D
CALSCALE:GREGORIAN
BEGIN:VEVENT
DTSTART:20140523T200000Z
DTEND:20140527T040000Z
X-MICROSOFT-CDO-ALLDAYEVENT:FALSE
SUMMARY:Strawberry Festival
DESCRIPTION:Come join the fun at the 56th Annual Strawberry Festival here in Garden Grove.  There will be Rides\, Contests\, Parade\, Cake Cutting Ceremony\, Vendor Booths\, Chairity Food and Game Booths.\n\n\n\nAlso check out the Showmobile and Amphitheator Performances.
X-ALT-DESC;FMTTYPE=text/html:<br />\nCome join the fun at the 56th Annual Strawberry Festival here in Garden Grove. &nbsp\;There will be Rides\, Contests\, Parade\, Cake Cutting Ceremony\, Vendor Booths\, Chairity Food and Game Booths.<br />\n<br />\nAlso check out the Showmobile and Amphitheator&nbsp\;Performances.
LOCATION:S. Euclid Street and Main Street Garden Grove\, CA 92840
UID:e.1315.1468
SEQUENCE:3
DTSTAMP:20260424T160506Z
URL:http://business.gardengrovechamber.com/events/details/strawberry-festival-05-23-2014-1468
END:VEVENT

END:VCALENDAR
