BEGIN:VCALENDAR
VERSION:2.0
PRODID:-//ChamberMaster//Event Calendar 2.0//EN
METHOD:PUBLISH
X-PUBLISHED-TTL:P3D
REFRESH-INTERVAL:P3D
CALSCALE:GREGORIAN
BEGIN:VEVENT
DTSTART;VALUE=DATE:20160409
DTEND;VALUE=DATE:20160410
TRANSP:TRANSPARENT
X-MICROSOFT-CDO-ALLDAYEVENT:TRUE
SUMMARY:Strawberry Productions - Desperado - tribute to the Eagles
DESCRIPTION:A Desperado performance isn't just about an audience enjoying their favorite Eagles hits  As you experience this band performing\, you realize that you are in the presence of a group of extremely accomplished & well seasoned\, "world class" musicians.
X-ALT-DESC;FMTTYPE=text/html:<p><span style="box-sizing: border-box\; margin: inherit\; padding: initial\; font-family: 'Source Sans Pro'\; font-size: 16px\; font-weight: 600\; text-decoration: inherit\; line-height: normal\; text-align: center\;"><span style="box-sizing: border-box\; margin: auto\; padding: initial\; font-family: inherit\; font-size: inherit\; font-style: inherit\; font-weight: inherit\; text-decoration: inherit\;"><span style="box-sizing: border-box\; margin: auto\; padding: initial\; font-family: inherit\; font-size: 18px\; font-style: inherit\; font-weight: inherit\; text-decoration: inherit\;">A</span></span><span style="box-sizing: border-box\; margin: auto\; padding: initial\; font-family: inherit\; font-size: inherit\; font-style: inherit\; font-weight: inherit\; text-decoration: inherit\;"><span style="box-sizing: border-box\; margin: auto\; padding: initial\; font-family: inherit\; font-size: 18px\; font-style: inherit\; font-weight: inherit\; text-decoration: inherit\;">&nbsp\;Desperado&nbsp\;</span></span><span style="box-sizing: border-box\; margin: auto\; padding: initial\; font-family: inherit\; font-size: inherit\; font-style: inherit\; font-weight: inherit\; text-decoration: inherit\;"><span style="box-sizing: border-box\; margin: auto\; padding: initial\; font-family: inherit\; font-size: 18px\; font-style: inherit\; font-weight: inherit\; text-decoration: inherit\;">performance isn&rsquo\;t just about an audience enjoying their favorite Eagles hits&hellip\; As you experience this band performing\, you realize that you are in the presence of a group of extremely accomplished &amp\; well seasoned\, &ldquo\;world class&rdquo\; musicians.</span></span></span></p>\n
LOCATION:The Strawberry Bowl 12762 Main Street Garden Grove 92840
UID:e.1315.5114
SEQUENCE:3
DTSTAMP:20260420T232354Z
URL:http://business.gardengrovechamber.com/events/details/strawberry-productions-desperado-tribute-to-the-eagles-04-09-2016-5114
END:VEVENT

END:VCALENDAR
