BEGIN:VCALENDAR
VERSION:2.0
PRODID:-//ChamberMaster//Event Calendar 2.0//EN
METHOD:PUBLISH
X-PUBLISHED-TTL:P3D
REFRESH-INTERVAL:P3D
CALSCALE:GREGORIAN
BEGIN:VEVENT
DTSTART:20150523T150000Z
DTEND:20150523T163000Z
X-MICROSOFT-CDO-ALLDAYEVENT:FALSE
SUMMARY:Strawberry Stomp 5K Run/Walk
DESCRIPTION:Whether you like to walk or run\, you can join the Strawberry Stomp 5K Run/Walk. This is fun for the entire family. The Strawberry Festival Parade follows after. \n\n\n\nThis event benefits the Sister City Association of Garden Grove\, a 501(c)(3) Nonprofit Organization!
X-ALT-DESC;FMTTYPE=text/html:Whether you like to walk or run\, you can join the Strawberry Stomp 5K Run/Walk. This is fun for the entire family. The Strawberry Festival Parade follows after.&nbsp\;<br />\n<br />\n<strong><em>This event benefits the Sister City Association of Garden Grove\, a 501(c)(3) Nonprofit Organization!</em></strong><br />\n<br />\n<br />\n<br />\n&nbsp\;
LOCATION:Race starts at 8:00 am at Garden Grove Historic Main Street
UID:e.1315.2458
SEQUENCE:3
DTSTAMP:20260423T222418Z
URL:http://business.gardengrovechamber.com/events/details/strawberry-stomp-5k-run-walk-05-23-2015-2458
END:VEVENT

END:VCALENDAR
