BEGIN:VCALENDAR
VERSION:2.0
PRODID:-//ChamberMaster//Event Calendar 2.0//EN
METHOD:PUBLISH
X-PUBLISHED-TTL:P3D
REFRESH-INTERVAL:P3D
CALSCALE:GREGORIAN
BEGIN:VEVENT
DTSTART:20170723T000000Z
DTEND:20170723T040000Z
X-MICROSOFT-CDO-ALLDAYEVENT:FALSE
SUMMARY:Summer Luau - Garden Grove Masons
DESCRIPTION:A fun summer luau with gourmet food\, dancing\, and drinks.\n\n\n\nExcellent Hawaiian Cuisines\, Complimentary Wine\, Live Entertainment
X-ALT-DESC;FMTTYPE=text/html:A fun summer luau with gourmet food\, dancing\, and drinks.<br />\n<br />\nExcellent Hawaiian Cuisines\, Complimentary Wine\, Live Entertainment
LOCATION:11270 Acacia Parkway Garden Grove\, CA 92840
UID:e.1315.6159
SEQUENCE:3
DTSTAMP:20260420T000138Z
URL:http://business.gardengrovechamber.com/events/details/summer-luau-garden-grove-masons-6159
END:VEVENT

END:VCALENDAR
