BEGIN:VCALENDAR
VERSION:2.0
PRODID:-//ChamberMaster//Event Calendar 2.0//EN
METHOD:PUBLISH
X-PUBLISHED-TTL:P3D
REFRESH-INTERVAL:P3D
CALSCALE:GREGORIAN
BEGIN:VEVENT
DTSTART:20140915T180000Z
DTEND:20140916T050000Z
X-MICROSOFT-CDO-ALLDAYEVENT:FALSE
SUMMARY:Support Leukemia & Lymphoma Society at Carolina's Italian Restuarant
DESCRIPTION:Help support the Leukemia & Lymphoma Society "Light the Night Walk" by dining Carolina's Italian Restaurant.
X-ALT-DESC;FMTTYPE=text/html:Help support the Leukemia &amp\; Lymphoma Society &quot\;Light the Night Walk&quot\; by dining Carolina&#39\;s Italian Restaurant. &nbsp\;
LOCATION:Carolina's Italian Restaurant 12045 Chapman Avenue Garden Grove\, CA 92840
UID:e.1315.2100
SEQUENCE:3
DTSTAMP:20260424T101856Z
URL:http://business.gardengrovechamber.com/events/details/support-leukemia-lymphoma-society-at-carolina-s-italian-restuarant-09-15-2014-2100
END:VEVENT

END:VCALENDAR
