BEGIN:VCALENDAR
VERSION:2.0
PRODID:-//ChamberMaster//Event Calendar 2.0//EN
METHOD:PUBLISH
X-PUBLISHED-TTL:P3D
REFRESH-INTERVAL:P3D
CALSCALE:GREGORIAN
BEGIN:VEVENT
DTSTART:20151112T220000Z
DTEND:20151113T000000Z
X-MICROSOFT-CDO-ALLDAYEVENT:FALSE
SUMMARY:Team Amvets Ribbon Cutting and Open House
DESCRIPTION:Save the Date!\n\nTeam Amvets will be having a Ribbon Cutting and Open House with a tour of their facility! Refreshments will be provided.
X-ALT-DESC;FMTTYPE=text/html:Save the Date!<br />\nTeam Amvets&nbsp\;will be having a Ribbon Cutting and Open House with a tour of their facility! Refreshments will be provided.&nbsp\;&nbsp\;&nbsp\;&nbsp\;&nbsp\;&nbsp\;&nbsp\;&nbsp\;
LOCATION:12345 Euclid Street Garden Grove\, CA 92840
UID:e.1315.4560
SEQUENCE:3
DTSTAMP:20260423T133936Z
URL:http://business.gardengrovechamber.com/events/details/team-amvets-ribbon-cutting-and-open-house-11-12-2015-4560
END:VEVENT

END:VCALENDAR
