BEGIN:VCALENDAR
VERSION:2.0
PRODID:-//ChamberMaster//Event Calendar 2.0//EN
METHOD:PUBLISH
X-PUBLISHED-TTL:P3D
REFRESH-INTERVAL:P3D
CALSCALE:GREGORIAN
BEGIN:VEVENT
DTSTART:20170217T020000Z
DTEND:20170217T043000Z
X-MICROSOFT-CDO-ALLDAYEVENT:FALSE
SUMMARY:The Art and Science of Creating a Successful Business Plan
DESCRIPTION:This workshop\, "The Art and Science of Creating a Successful Business Plan"\, is presented by the Orange County Small Business Development Center (SBDC) is to help you build a successful business plan.\n\n To register\, click here:  http://santaanadistrictsbdc.ecenterdirect.com/events/5535
X-ALT-DESC;FMTTYPE=text/html:This workshop\, <em><strong>&quot\;The Art and Science of Creating a Successful Business Plan&quot\;\, </strong></em>is presented by the Orange County Small Business Development Center (SBDC) is to help you build a successful business plan.<br />\n&#8203\;To register\, click here:&nbsp\; <a data-saferedirecturl="https://www.google.com/url?hl=en&amp\;q=http://santaanadistrictsbdc.ecenterdirect.com/events/5535&amp\;source=gmail&amp\;ust=1484158103015000&amp\;usg=AFQjCNEKCFw-LsLxdRpsQoTK8lwcJSow_Q" href="http://santaanadistrictsbdc.ecenterdirect.com/events/5535" style="color: rgb(17\, 85\, 204)\; font-family: calibri\, sans-serif\; font-size: 14.6667px\; font-style: normal\; font-variant-ligatures: normal\; font-variant-caps: normal\; font-weight: normal\; letter-spacing: normal\; orphans: 2\; text-align: start\; text-indent: 0px\; text-transform: none\; white-space: normal\; widows: 2\; word-spacing: 0px\; -webkit-text-stroke-width: 0px\; background-color: rgb(255\, 255\, 255)\;" target="_blank">http://santaanadistrictsbdc.<wbr />ecenterdirect.com/events/5535</a>
LOCATION:Garden Grove Community Center Constitution Room 11300 Stanford Avenue Garden Grove\, CA 92840
UID:e.1315.6068
SEQUENCE:3
DTSTAMP:20260420T073321Z
URL:http://business.gardengrovechamber.com/events/details/the-art-and-science-of-creating-a-successful-business-plan-6068
END:VEVENT

END:VCALENDAR
