BEGIN:VCALENDAR
VERSION:2.0
PRODID:-//ChamberMaster//Event Calendar 2.0//EN
METHOD:PUBLISH
X-PUBLISHED-TTL:P3D
REFRESH-INTERVAL:P3D
CALSCALE:GREGORIAN
BEGIN:VEVENT
DTSTART:20170928T010000Z
DTEND:20170928T033000Z
X-MICROSOFT-CDO-ALLDAYEVENT:FALSE
SUMMARY:The Art and Science of Creating a Successful Business Plan
DESCRIPTION:It's your journey...Shouldn't you create the map? Successful business planning leads to successful business results. Take the most important step and build your business solidly from the very beginning or use it to guide an existing enterprise. In this interactive workshop you will learn how to:\n\n1. Break apart the components of the business plan into manageable steps\n\n2. Define your business succinctly\n\n3. Research your competition and target market\n\n4. Develop your operating and marketing plans\n\n5. Start understanding your financial statements.
X-ALT-DESC;FMTTYPE=text/html:<span style="font-size:12px\;"><span style="font-family:arial\;"><span style="color: rgb(0\, 0\, 0)\;">It&rsquo\;s your journey...Shouldn&rsquo\;t you create the map? Successful business planning leads to successful business results. Take the most important step and build your business solidly from the very beginning or use it to guide an existing enterprise. In this interactive workshop you will learn how to:<br />\n1. Break apart the components of the business plan into manageable steps<br />\n2. Define your business succinctly<br />\n3. Research your competition and target market<br />\n4. Develop your operating and marketing plans<br />\n5. Start understanding your financial statements.</span></span></span>
LOCATION:Garden Grove Community Center 11300 Stanford Avenue Constitution Room Garden Grove\, CA 92840
UID:e.1315.6214
SEQUENCE:3
DTSTAMP:20260419T204724Z
URL:http://business.gardengrovechamber.com/events/details/the-art-and-science-of-creating-a-successful-business-plan-6214
END:VEVENT

END:VCALENDAR
