BEGIN:VCALENDAR
VERSION:2.0
PRODID:-//ChamberMaster//Event Calendar 2.0//EN
METHOD:PUBLISH
X-PUBLISHED-TTL:P3D
REFRESH-INTERVAL:P3D
CALSCALE:GREGORIAN
BEGIN:VEVENT
DTSTART:20170214T170000Z
DTEND:20170214T181500Z
X-MICROSOFT-CDO-ALLDAYEVENT:FALSE
SUMMARY:The State of Federal Tax Reform Telephone Town Hall
DESCRIPTION:Join California Assembly Revenue and Tax Committee ChairSebastian Ridley-Thomas & Board of Equalization Vice Chair Diane Harkey for a FREE telephone townhall discussing the State of Federal Tax Reform.\n\nPanelists:\n\n	Hon. Dave Camp\, PwC Senior Policy Advisor & Former Chairman of the U.S. House of Representatives \n\n	Ways and Means Committee\n	Alan Auerbach\, Robert D. Burch Professor of Economics and Law\, University of California Berkeley\n	Edward Kleinbard\, Ivadelle and Theodore Johnson Professor of Law and Business\, University of Southern California\n	Victor Fleischer\, Co-Chief Tax Counsel\, U.S. Senate Finance Committee\n\n\n\n\n\nThis telephone town hall will provide an overview of federal tax reforms under consideration and an analysis of their\n\nimpact on the federal budget\, the national economy\, and the State of California.\n\nRSVP: https://cataxtownhall.eventbrite.com or by calling (916) 323-9794.\n\nJoin elected officals and business leaders for this timely event. There is no cost to attend.\n\nNote: By registering for this event you are giving permission to Vice Chair Harkey and Assemblymember Ridley-Thomas to send you periodic updates. If you would like to opt-out\, send an email to diane.harkey@boe.ca.gov with the subject line "Opt Out.
X-ALT-DESC;FMTTYPE=text/html:<span style="font-size:14px\;"><span style="font-family:arial\;">Join California Assembly Revenue and Tax Committee&nbsp\;<span style="font-weight:700\;padding-top:0px\;">Chair</span><span style="font-weight:700\;">Sebastian</span><span style="font-weight:700\;"> Ridley-Thomas</span>&nbsp\;&amp\; Board of Equalization&nbsp\;<span style="font-weight:700\;">Vice Chair Diane Harkey&nbsp\;</span>for a FREE telephone townhall discussing the State of Federal Tax Reform.<br />\nPanelists:</span></span>\n<ul>\n	<li style="padding:0px\;"><span style="font-size:14px\;"><span style="font-family:arial\;"><span style="font-weight:700\;padding-top:0px\;">Hon. Dave Camp</span>\,&nbsp\;PwC Senior Policy Advisor &amp\;&nbsp\;Former Chairman of the U.S. House of Representatives&nbsp\;<br />\n	Ways and Means Committee</span></span></li>\n	<li style="padding:5px 0px 0px\;"><span style="font-size:14px\;"><span style="font-family:arial\;"><span style="font-weight:700\;padding-top:0px\;">Alan Auerbach</span>\, Robert D. Burch Professor of Economics and Law\, University of California Berkeley</span></span></li>\n	<li style="padding:5px 0px 0px\;"><span style="font-size:14px\;"><span style="font-family:arial\;"><span style="font-weight:700\;padding-top:0px\;">Edward Kleinbard</span>\, Ivadelle and Theodore Johnson Professor of Law and Business\, University of Southern California</span></span></li>\n	<li style="padding:5px 0px 0px\;"><span style="font-size:14px\;"><span style="font-family:arial\;"><span style="font-weight:700\;padding-top:0px\;">Victor Fleischer</span>\, Co-Chief Tax Counsel\, U.S. Senate Finance Committee</span></span></li>\n</ul>\n<br style="padding-top:0px\;" />\n<br />\n<span style="font-size:14px\;"><span style="font-family:arial\;"><span style="padding-top:0px\;">This telephone town hall will provide an overview of federal tax reforms under consideration and an analysis of their<br style="padding-top:0px\;" />\nimpact on the federal budget\, the national economy\, and the State of California.</span><br />\nRSVP: https://cataxtownhall.eventbrite.com or by calling (916) 323-9794.<br />\n<span style="padding-top:0px\;">Join elected officals and business leaders for this timely event. There is no cost to attend.</span></span></span>\n\n<h5 style="padding:10px 0px 0px\;color:rgb(40\, 44\, 53)\;font-size:15px\;line-height:22px\;font-family:Benton Sans\, Helvetica Neue\, Helvetica\, Roboto\, Arial\, sans-serif\;letter-spacing:0.5px\;"><span style="font-family:comic sans ms\;"><span style="padding-top:0px\;"><span style="font-size:14px\;"><span style="font-family:arial\;">Note: By registering for this event you are giving permission to Vice Chair Harkey and </span></span>Assemblymember Ridley-Thomas to send you periodic updates. If you would like to opt-out\, send an email to diane.harkey@boe.ca.gov with the subject line &quot\;Opt Out.</span></span></h5>\n
LOCATION:
UID:e.1315.6079
SEQUENCE:3
DTSTAMP:20260420T073637Z
URL:http://business.gardengrovechamber.com/events/details/the-state-of-federal-tax-reform-telephone-town-hall-6079
END:VEVENT

END:VCALENDAR
