BEGIN:VCALENDAR
VERSION:2.0
PRODID:-//ChamberMaster//Event Calendar 2.0//EN
METHOD:PUBLISH
X-PUBLISHED-TTL:P3D
REFRESH-INTERVAL:P3D
CALSCALE:GREGORIAN
BEGIN:VEVENT
DTSTART:20141012T180000Z
DTEND:20141012T230000Z
X-MICROSOFT-CDO-ALLDAYEVENT:FALSE
SUMMARY:This Sunday is Re:Imagine Garden Grove
DESCRIPTION:Re:Imagine Garden Grove will close approximately three miles of streets to cars and open them up for pedestrians\, cyclists\, skateboarders\, rollerbladers\, etc. You don't need a bike to enjoy the open streets - walking or running the route is always a fun option. But if you are looking for a bike rental\, please refer to the event website\, which lists two bike shops that will provide rentals on 10/12.\n\n\n\nWebsite:  GGOpenStreets.com
X-ALT-DESC;FMTTYPE=text/html:<span style="font-size:16px\;"><span style="font-family:times new roman\;"><em><strong>Re:Imagine Garden Grove</strong></em><span style="color: rgb(34\, 34\, 34)\; line-height: normal\;">&nbsp\;will close approximately three miles of streets to cars and open them up for pedestrians\, cyclists\, skateboarders\, rollerbladers\, etc. You don&rsquo\;t need a bike to enjoy the open streets - walking or running the route is always a fun option. But if you are looking for a bike rental\, please refer to the&nbsp\;</span><a href="http://ggopenstreets.com/getting-there/directions/" style="color: rgb(17\, 85\, 204)\; font-family: arial\, sans-serif\; line-height: normal\;" target="_blank"><strong><span style="color:#FF0000\;">event website\, which lists two bike shops that will provide rentals on 10/12.</span></strong></a><br />\n<br />\nWebsite: &nbsp\;<em><strong><a href="http://ggopenstreets.com/">GGOpenStreets.com</a></strong></em></span></span><br />\n<br />\n&nbsp\;
LOCATION:
UID:e.1315.1756
SEQUENCE:3
DTSTAMP:20260424T085906Z
URL:http://business.gardengrovechamber.com/events/details/this-sunday-is-re-imagine-garden-grove-10-12-2014-1756
END:VEVENT

END:VCALENDAR
