BEGIN:VCALENDAR
VERSION:2.0
PRODID:-//ChamberMaster//Event Calendar 2.0//EN
METHOD:PUBLISH
X-PUBLISHED-TTL:P3D
REFRESH-INTERVAL:P3D
CALSCALE:GREGORIAN
BEGIN:VEVENT
DTSTART:20171117T170000Z
DTEND:20171118T210000Z
X-MICROSOFT-CDO-ALLDAYEVENT:FALSE
SUMMARY:Three Dots-Biggest Parking Lot Sale of the Year
DESCRIPTION:Biggest Parking Lot Sale of the Year\n\n\n\nNovember 17 & 18\n\n9:00 am to 1:00 pm\n\n\n\n$10 to $20\n\n\n\nWomen's Fashion tops\, dresses\, skirts\, pants\, jackets\, sweaters\, cardigans\n\n\n\nMens basic tops at $10\n\n\n\n7340 Lampson Avenue\n\nGarden Grove\, CA 92841\n\n\n\nCash Only\n\nAll Sales are final
X-ALT-DESC;FMTTYPE=text/html:Biggest Parking Lot Sale of the Year<br />\n<br />\nNovember 17 &amp\; 18<br />\n9:00 am to 1:00 pm<br />\n<br />\n$10 to $20<br />\n<br />\nWomen&#39\;s Fashion tops\, dresses\, skirts\, pants\, jackets\, sweaters\, cardigans<br />\n<br />\nMens&nbsp\;basic tops at $10<br />\n<br />\n7340 Lampson&nbsp\;Avenue<br />\nGarden Grove\, CA 92841<br />\n<br />\nCash Only<br />\nAll Sales are final
LOCATION:7340 Lampson Avenue Garden Grove\, CA 92841
UID:e.1315.6247
SEQUENCE:3
DTSTAMP:20260419T181201Z
URL:http://business.gardengrovechamber.com/events/details/three-dots-biggest-parking-lot-sale-of-the-year-6247
END:VEVENT

END:VCALENDAR
