BEGIN:VCALENDAR
VERSION:2.0
PRODID:-//ChamberMaster//Event Calendar 2.0//EN
METHOD:PUBLISH
X-PUBLISHED-TTL:P3D
REFRESH-INTERVAL:P3D
CALSCALE:GREGORIAN
BEGIN:VEVENT
DTSTART:20161022T210000Z
DTEND:20161023T003000Z
X-MICROSOFT-CDO-ALLDAYEVENT:FALSE
SUMMARY:Toasting Great Futures
DESCRIPTION:Join the Boys & Girls Clubs of Garden Grove for a fun interactive Club experience at Main Branch followed by a wine & beer tasting\, great food\, live entertainment and more at Kiwanisland.
X-ALT-DESC;FMTTYPE=text/html:Join the Boys &amp\; Girls Clubs of Garden Grove for a fun interactive Club experience at Main Branch followed by a wine &amp\; beer tasting\, great food\, live entertainment and more at Kiwanisland.&nbsp\;&nbsp\;&nbsp\;&nbsp\;&nbsp\;&nbsp\;&nbsp\;&nbsp\;
LOCATION:Main Branch & KiwanisLand 9860 Larson Avenue Garden Grove
UID:e.1315.6016
SEQUENCE:3
DTSTAMP:20260420T133242Z
URL:http://business.gardengrovechamber.com/events/details/toasting-great-futures-6016
END:VEVENT

END:VCALENDAR
