BEGIN:VCALENDAR
VERSION:2.0
PRODID:-//ChamberMaster//Event Calendar 2.0//EN
METHOD:PUBLISH
X-PUBLISHED-TTL:P3D
REFRESH-INTERVAL:P3D
CALSCALE:GREGORIAN
BEGIN:VEVENT
DTSTART:20171014T210000Z
DTEND:20171015T003000Z
X-MICROSOFT-CDO-ALLDAYEVENT:FALSE
SUMMARY:Toasting Great Futures
DESCRIPTION:We cordially invite you to join us for an interactive Club experience at Main Branch followed by a spectacular afternoon of wine & beer tasting\, great food\, opportunity drawings\, & live entertainment at KiwanisLand. \n\n\n\nCalifornia Casual attire recommended
X-ALT-DESC;FMTTYPE=text/html:We cordially invite you to join us for an interactive Club experience at Main Branch followed by a spectacular afternoon of wine &amp\; beer tasting\, great food\, opportunity drawings\, &amp\; live entertainment at KiwanisLand.&nbsp\;<br />\n<br />\nCalifornia Casual attire recommended
LOCATION:Main Branch & KiwanisLand 9860 Larson Avenue Garden Grove
UID:e.1315.6215
SEQUENCE:3
DTSTAMP:20260419T193023Z
URL:http://business.gardengrovechamber.com/events/details/toasting-great-futures-6215
END:VEVENT

END:VCALENDAR
