BEGIN:VCALENDAR
VERSION:2.0
PRODID:-//ChamberMaster//Event Calendar 2.0//EN
METHOD:PUBLISH
X-PUBLISHED-TTL:P3D
REFRESH-INTERVAL:P3D
CALSCALE:GREGORIAN
BEGIN:VEVENT
DTSTART:20150219T193000Z
DTEND:20150219T210000Z
X-MICROSOFT-CDO-ALLDAYEVENT:FALSE
SUMMARY:TODAY Women's Division Luncheon
DESCRIPTION:Come join us at the Garden Grove Chamber Women's Division Luncheon held every third Thursday of the month (we go dark in July and August).  This month we have Ed Beaudin of Veteran Ed's as our special guest speaker.
X-ALT-DESC;FMTTYPE=text/html:Come join us at the Garden Grove Chamber Women&#39\;s Division Luncheon held every third Thursday of the month (we go dark in July and August). &nbsp\;This month we have <em><strong>Ed Beaudin</strong></em> of <strong><em>Veteran Ed&#39\;s</em></strong> as our special guest speaker.
LOCATION:Garden Grove Elks's Lodge 11551 Trask Avenue Garden Grove\, CA 92843
UID:e.1315.1750
SEQUENCE:3
DTSTAMP:20260424T033045Z
URL:http://business.gardengrovechamber.com/events/details/today-women-s-division-luncheon-02-19-2015-1750
END:VEVENT

END:VCALENDAR
