BEGIN:VCALENDAR
VERSION:2.0
PRODID:-//ChamberMaster//Event Calendar 2.0//EN
METHOD:PUBLISH
X-PUBLISHED-TTL:P3D
REFRESH-INTERVAL:P3D
CALSCALE:GREGORIAN
BEGIN:VEVENT
DTSTART:20150107T030000Z
DTEND:20150107T050000Z
X-MICROSOFT-CDO-ALLDAYEVENT:FALSE
SUMMARY:TONIGHT 1st District OC Supervisor Candidate Forum!
DESCRIPTION:Connect-to-Council is presenting a forum for the voters of Garden Grove\, Santa ana and Westminister to feature candidates running for the 1st District Orange County Supervisor position. There will be a special election on January 27th and absentee ballots begin going out on December 29\, 2014.
X-ALT-DESC;FMTTYPE=text/html:Connect-to-Council is presenting a forum for the voters of Garden Grove\, Santa ana and Westminister to feature candidates running for the 1st District Orange County Supervisor position. There will be a special election on January 27th and absentee ballots begin going out on December 29\, 2014.
LOCATION:Rancho Santiago Community College District Boardroom 2323 N. Broadway Santa Ana\, CA 92706
UID:e.1315.2435
SEQUENCE:3
DTSTAMP:20260424T044556Z
URL:http://business.gardengrovechamber.com/events/details/tonight-1st-district-oc-supervisor-candidate-forum-01-06-2015-2435
END:VEVENT

END:VCALENDAR
