BEGIN:VCALENDAR
VERSION:2.0
PRODID:-//ChamberMaster//Event Calendar 2.0//EN
METHOD:PUBLISH
X-PUBLISHED-TTL:P3D
REFRESH-INTERVAL:P3D
CALSCALE:GREGORIAN
BEGIN:VEVENT
DTSTART:20141014T010000Z
DTEND:20141014T040000Z
X-MICROSOFT-CDO-ALLDAYEVENT:FALSE
SUMMARY:TONIGHT - Candidates Forum
DESCRIPTION:Get more informed by attending our Candidates Forum to hear the candidates for Mayor and City Council before you vote.  This event is free and open to the public.
X-ALT-DESC;FMTTYPE=text/html:Get more informed by attending our <em>Candidates Forum</em> to hear the candidates for Mayor and City Council before you vote. &nbsp\;This event is free and open to the public.
LOCATION:Garden Grove Community Center 11300 Stanford Avenue Garden Grove\, Ca 92840
UID:e.1315.2068
SEQUENCE:3
DTSTAMP:20260424T085736Z
URL:http://business.gardengrovechamber.com/events/details/tonight-candidates-forum-10-13-2014-2068
END:VEVENT

END:VCALENDAR
