BEGIN:VCALENDAR
VERSION:2.0
PRODID:-//ChamberMaster//Event Calendar 2.0//EN
METHOD:PUBLISH
X-PUBLISHED-TTL:P3D
REFRESH-INTERVAL:P3D
CALSCALE:GREGORIAN
BEGIN:VEVENT
DTSTART:20150820T003000Z
DTEND:20150820T020000Z
X-MICROSOFT-CDO-ALLDAYEVENT:FALSE
SUMMARY:TONIGHT! Chamber Mixer at Healthy Smiles for Kids of OC!
DESCRIPTION:Join us for our Chamber Mixer hosted at Healthy Smiles for Kids of OC. Enjoy refreshments and take a tour of their facilities and see what they are all about. Be sure to bring lots of business cards to promote your business even further and perhaps win an opportunity prize!
X-ALT-DESC;FMTTYPE=text/html:Join us for our <strong>Chamber Mixer</strong> hosted at Healthy Smiles for Kids of OC. Enjoy refreshments and take a tour of their facilities and see what they are all about. Be sure to bring lots of business cards to promote your business even further and perhaps win an opportunity prize!
LOCATION:Healthy Smiles for Kids of OC 10602 Chapman Avenue\, Suite 200 Garden Grove\, CA 92840
UID:e.1315.2927
SEQUENCE:3
DTSTAMP:20260423T180136Z
URL:http://business.gardengrovechamber.com/events/details/tonight-chamber-mixer-at-healthy-smiles-for-kids-of-oc-08-19-2015-2927
END:VEVENT

END:VCALENDAR
