BEGIN:VCALENDAR
VERSION:2.0
PRODID:-//ChamberMaster//Event Calendar 2.0//EN
METHOD:PUBLISH
X-PUBLISHED-TTL:P3D
REFRESH-INTERVAL:P3D
CALSCALE:GREGORIAN
BEGIN:VEVENT
DTSTART:20141209T023000Z
DTEND:20141209T033000Z
X-MICROSOFT-CDO-ALLDAYEVENT:FALSE
SUMMARY:TONIGHT City of Garden Grove Christmas Tree Lighting Celebration
DESCRIPTION:Come to the City of Garden Grove's Annual Christmas Tree Lighting Celebration. Enjoy festive entertainment\, refreshments and even a visit from Santa and Mrs. Claus.\n\n\n\nThere will be traditional Latin food for sale at 5:00 pm.
X-ALT-DESC;FMTTYPE=text/html:Come to the City of Garden Grove&#39\;s Annual Christmas <span style="color:#008000\;"><em><strong>Tree Lighting Celebration</strong></em></span>. Enjoy festive entertainment\, refreshments and even a visit from Santa and Mrs. Claus.<br />\n<br />\nThere will be traditional Latin food for sale at 5:00 pm.
LOCATION:Village Green Park (corner of Euclid and Main Street) Garden Grove\, CA 92840
UID:e.1315.2278
SEQUENCE:3
DTSTAMP:20260424T061128Z
URL:http://business.gardengrovechamber.com/events/details/tonight-city-of-garden-grove-christmas-tree-lighting-celebration-12-08-2014-2278
END:VEVENT

END:VCALENDAR
