BEGIN:VCALENDAR
VERSION:2.0
PRODID:-//ChamberMaster//Event Calendar 2.0//EN
METHOD:PUBLISH
X-PUBLISHED-TTL:P3D
REFRESH-INTERVAL:P3D
CALSCALE:GREGORIAN
BEGIN:VEVENT
DTSTART:20151217T013000Z
DTEND:20151217T033000Z
X-MICROSOFT-CDO-ALLDAYEVENT:FALSE
SUMMARY:TONIGHT is our Chamber's Holiday MIxer
DESCRIPTION:Join us at Farmer's & Merchants Bank for our Chamber Holiday Mixer.  Meet other business members and local officials while enjoying some great food and drink.  Be sure to bring lots of business cards for this networking event.\n\n\n\nTo further promote your business feel free bring a door prize.
X-ALT-DESC;FMTTYPE=text/html:<span style="line-height: 18.9091px\;">Join us at Farmer&#39\;s &amp\; Merchants Bank for our&nbsp\;</span><strong style="line-height: 18.9091px\;">Chamber Holiday Mixer</strong><span style="line-height: 18.9091px\;">. &nbsp\;Meet other business members and local officials while enjoying some great food and drink. &nbsp\;Be sure to bring lots of business cards for this networking event.<br />\n<br />\nTo further promote your business feel free&nbsp\;bring a door prize.&nbsp\;</span>
LOCATION:F&M Bank 10422 Garden Grove Blvd. Garden Grove\, CA 92843
UID:e.1315.4826
SEQUENCE:3
DTSTAMP:20260423T120003Z
URL:http://business.gardengrovechamber.com/events/details/tonight-is-our-chamber-s-holiday-mixer-12-16-2015-4826
END:VEVENT

END:VCALENDAR
