BEGIN:VCALENDAR
VERSION:2.0
PRODID:-//ChamberMaster//Event Calendar 2.0//EN
METHOD:PUBLISH
X-PUBLISHED-TTL:P3D
REFRESH-INTERVAL:P3D
CALSCALE:GREGORIAN
BEGIN:VEVENT
DTSTART:20161016T013000Z
DTEND:20161016T041500Z
X-MICROSOFT-CDO-ALLDAYEVENT:FALSE
SUMMARY:Tribute Concert - Hollywood U2 and Mirage
DESCRIPTION:Hollywood U2 and Mirage - Tributes to U2 and Fleetwood Mac - The music from two iconic rock groups will echo from The Strawberry Bowl when tribute bands Hollywood U2 and Mirage take the stage for a night of classic hits under the stars. Arguably the world's greatest U2 tribute act\, Hollywood U2 have toured extensively throughout the country and overseas\, bringing the music of Bono\, The Edge and company to delighted audiences around the globe. Hollywood U2 are not simply impersonators who bear an uncanny resemblance to the original group\, but they're also consummate musicians who bring the true heart of the Grammy-winning band to every performance. They've even played the pre- and post-concert parties on U2's 2006 Vertigo tour. Enjoy true-to-life renditions of songs such as "With or Without You" to "Beautiful Day" and everything in between. Evoking the unique visual and audio element of Fleetwood Mac\, Mirage casts a spellbinding sound from the stage in recreating hits like "Landslide" and "Go Your Own Way."
X-ALT-DESC;FMTTYPE=text/html:<span style="color:#000000\;"><span style="font-size:12px\;"><span style="font-family:arial\;"><strong>Hollywood U2 and Mirage - Tributes to U2 and Fleetwood Mac</strong>&nbsp\;- The music from two iconic rock groups will echo from The Strawberry Bowl when tribute bands Hollywood U2 and Mirage take the stage for a night of classic hits under the stars. Arguably the world&#39\;s greatest U2 tribute act\, Hollywood U2 have toured extensively throughout the country and overseas\, bringing the music of Bono\, The Edge and company to delighted audiences around the globe. Hollywood U2 are not simply impersonators who bear an uncanny resemblance to the original group\, but they&#39\;re also consummate musicians who bring the true heart of the Grammy-winning band to every performance. They&#39\;ve even played the pre- and post-concert parties on U2&#39\;s 2006 Vertigo tour. Enjoy true-to-life renditions of songs such as &quot\;With or Without You&quot\; to &quot\;Beautiful Day&quot\; and everything in between. Evoking the unique visual and audio element of Fleetwood Mac\, Mirage casts a spellbinding sound from the stage in recreating hits like &quot\;Landslide&quot\; and &quot\;Go Your Own Way.&quot\;</span></span></span>
LOCATION:The StrawberryBowl 12762 Main Street Garden Grove\, CA 92840
UID:e.1315.6012
SEQUENCE:3
DTSTAMP:20260420T133513Z
URL:http://business.gardengrovechamber.com/events/details/tribute-concert-hollywood-u2-and-mirage-6012
END:VEVENT

END:VCALENDAR
