BEGIN:VCALENDAR
VERSION:2.0
PRODID:-//ChamberMaster//Event Calendar 2.0//EN
METHOD:PUBLISH
X-PUBLISHED-TTL:P3D
REFRESH-INTERVAL:P3D
CALSCALE:GREGORIAN
BEGIN:VEVENT
DTSTART:20131023T180000Z
DTEND:20131024T030000Z
X-MICROSOFT-CDO-ALLDAYEVENT:FALSE
SUMMARY:VWMAF Golf Tournament
DESCRIPTION:VWMAF Inaugural Fundraising Golf Tournament The guiding mission of the Vietnam War Museum of America Foundation is to build a first-of-its-kind educational museum in Southern California\, dedicated to honoring the millions of American and South Vietnamese veterans and civilians whoserved during the Vietnam War.
X-ALT-DESC;FMTTYPE=text/html:VWMAF Inaugural Fundraising Golf Tournament The guiding mission of the Vietnam War Museum of America Foundation is to build a first-of-its-kind educational museum in Southern California\, dedicated to honoring the millions of American and South Vietnamese veterans and civilians whoserved during the Vietnam War.
LOCATION:Navy Golf Course\, Seal Beach
UID:e.1315.1189
SEQUENCE:3
DTSTAMP:20260425T034334Z
URL:http://business.gardengrovechamber.com/events/details/vwmaf-golf-tournament-10-23-2013-1189
END:VEVENT

END:VCALENDAR
