BEGIN:VCALENDAR
VERSION:2.0
PRODID:-//ChamberMaster//Event Calendar 2.0//EN
METHOD:PUBLISH
X-PUBLISHED-TTL:P3D
REFRESH-INTERVAL:P3D
CALSCALE:GREGORIAN
BEGIN:VEVENT
DTSTART:20150605T170000Z
DTEND:20150606T010000Z
X-MICROSOFT-CDO-ALLDAYEVENT:FALSE
SUMMARY:Walmart Fundraiser for CHOC!
DESCRIPTION:On Friday\, June 5th at 10:00 a.m.\, Walmart\, 11822 Gilbert St.\, Garden Grove is having a fundraiser for CHOC-Children's Hospital of Orange County to help support Children's Miracle Network. Walmart has a target of raising $22\,000 with the proceeds directly going to CHOC. Garden Grove Police Chief Todd Elgin and Garden Grove Fire Chief Tom Schultz will be at the Walmart in support of the fundraiser. The two Chief's will be locked in a homemade jail in support of this worthy fundraiser. Chief Elgin said\, "Walmart is a strong supporter of giving back to the community and CHOC is an important part of specialized pediatric care. The Police and Fire Department believe in supporting this fundraiser and encourage the community to come out and support this event."
X-ALT-DESC;FMTTYPE=text/html:On Friday\, June 5th at 10:00 a.m.\, Walmart\, 11822 Gilbert St.\, Garden Grove is having a fundraiser for CHOC-Children&#39\;s Hospital of Orange County to help support Children&#39\;s Miracle Network. Walmart has a target of raising $22\,000 with the proceeds&nbsp\;directly going to CHOC. Garden Grove Police Chief Todd Elgin and Garden Grove Fire Chief Tom Schultz will be at the Walmart in support of the fundraiser. The two Chief&#39\;s will be locked in a homemade jail in support of this worthy fundraiser. Chief Elgin said\, &quot\;Walmart is a strong supporter of giving back to the community and CHOC is an important part of specialized pediatric care. The Police and&nbsp\;Fire Department believe in supporting this fundraiser and encourage the community to come&nbsp\;out and support this event.&quot\;
LOCATION:Walmart 11822 Gilbert St. Garden Grove
UID:e.1315.2940
SEQUENCE:3
DTSTAMP:20260423T204426Z
URL:http://business.gardengrovechamber.com/events/details/walmart-fundraiser-for-choc-06-05-2015-2940
END:VEVENT

END:VCALENDAR
