BEGIN:VCALENDAR
VERSION:2.0
PRODID:-//ChamberMaster//Event Calendar 2.0//EN
METHOD:PUBLISH
X-PUBLISHED-TTL:P3D
REFRESH-INTERVAL:P3D
CALSCALE:GREGORIAN
BEGIN:VEVENT
DTSTART:20140716T143000Z
DTEND:20140716T160000Z
X-MICROSOFT-CDO-ALLDAYEVENT:FALSE
SUMMARY:Walmart Grand Opening Ceremony!
DESCRIPTION:Join us to welcome and celebrate the Grand Opening of Garden Grove Walmart Supercenter!  There will be speakers and grant presentations. Remember Walmart is a one-stop shopping store with fresh\, healthy and affordable grocery options along with general merchandise\, all with Walmart's every day low prices.
X-ALT-DESC;FMTTYPE=text/html:Join us to welcome and celebrate the Grand Opening of Garden Grove <strong>Walmart Supercenter</strong>! &nbsp\;There will be speakers and grant presentations. Remember Walmart is a one-stop shopping store with fresh\, healthy and affordable grocery options along with general merchandise\, all with Walmart&#39\;s every day low prices.
LOCATION:Walmart Supercenter 11822 Gilbert Street Garden Grove\, CA 92841
UID:e.1315.1810
SEQUENCE:3
DTSTAMP:20260424T130027Z
URL:http://business.gardengrovechamber.com/events/details/walmart-grand-opening-ceremony-07-16-2014-1810
END:VEVENT

END:VCALENDAR
