BEGIN:VCALENDAR
VERSION:2.0
PRODID:-//ChamberMaster//Event Calendar 2.0//EN
METHOD:PUBLISH
X-PUBLISHED-TTL:P3D
REFRESH-INTERVAL:P3D
CALSCALE:GREGORIAN
BEGIN:VEVENT
DTSTART:20170209T161500Z
DTEND:20170209T170000Z
X-MICROSOFT-CDO-ALLDAYEVENT:FALSE
SUMMARY:Women's Division Board Meeting
DESCRIPTION:Women's Division Board Meeting.\n\nOnly the Board Members are to attend.
X-ALT-DESC;FMTTYPE=text/html:Women&#39\;s Division Board Meeting.<br />\nOnly the Board Members are to attend.&nbsp\;&nbsp\; &nbsp\;&nbsp\;&nbsp\;&nbsp\;&nbsp\;&nbsp\;&nbsp\;&nbsp\;&nbsp\;&nbsp\;
LOCATION:12866 Main Street Suite 102 Garden Grove\, CA 92840
UID:e.1315.5972
SEQUENCE:3
DTSTAMP:20260420T073419Z
URL:http://business.gardengrovechamber.com/events/details/women-s-division-board-meeting-02-09-2017-5972
END:VEVENT

END:VCALENDAR
