BEGIN:VCALENDAR
VERSION:2.0
PRODID:-//ChamberMaster//Event Calendar 2.0//EN
METHOD:PUBLISH
X-PUBLISHED-TTL:P3D
REFRESH-INTERVAL:P3D
CALSCALE:GREGORIAN
BEGIN:VEVENT
DTSTART:20130411T153000Z
DTEND:20130411T163000Z
X-MICROSOFT-CDO-ALLDAYEVENT:FALSE
SUMMARY:Women's Division Board Meeting
DESCRIPTION:Women's Division Board Meeting
X-ALT-DESC;FMTTYPE=text/html:<p style="text-align: center\;">\n	<span style="font-size:16px\;"><span style="font-family: 'comic sans ms'\;"><cite>Women&#39\;s Division Board Meeting</cite></span></span></p>\n
LOCATION:Chamber Office 12866 Main St. #102 Garden Grove\, CA 92840
UID:e.1315.667
SEQUENCE:3
DTSTAMP:20260425T140450Z
URL:http://business.gardengrovechamber.com/events/details/women-s-division-board-meeting-04-11-2013-667
END:VEVENT

END:VCALENDAR
